BEGIN:VCALENDAR
VERSION:2.0
PRODID:-//Plone.org//NONSGML plone.app.event//EN
X-WR-TIMEZONE:Europe/Berlin
BEGIN:VEVENT
SUMMARY:Hessische Blitzmannschaftsmeisterschaft 2018 in Bad Homburg
DTSTART;TZID=Europe/Berlin:20180304T110000
DTEND;TZID=Europe/Berlin:20180304T180000
DTSTAMP:20260424T185947Z
UID:fb486493a48c4ae09baaa05394f7930a@www.hessischer-schachverband.de
CONTACT:Frank Staiger
CREATED:20171211T144353Z
LAST-MODIFIED:20171212T170829Z
LOCATION:Bürgerhaus Kirdorf\, Stedter Weg 40\, 61350 Bad Homburg
URL:https://www.hessischer-schachverband.de/spielleitung/blitzmannschaftsm
 eisterschaft/hessische-blitz-mm-2018/hessische-blitzmannschaftsmeisterscha
 ft-2018-in-bad-homburg
END:VEVENT
BEGIN:VTIMEZONE
TZID:Europe/Berlin
X-LIC-LOCATION:Europe/Berlin
BEGIN:STANDARD
DTSTART:20171029T020000
TZNAME:CET
TZOFFSETFROM:+0200
TZOFFSETTO:+0100
END:STANDARD
END:VTIMEZONE
END:VCALENDAR
