BEGIN:VCALENDAR
VERSION:2.0
PRODID:-//Plone.org//NONSGML plone.app.event//EN
X-WR-TIMEZONE:Europe/Berlin
BEGIN:VEVENT
SUMMARY:XXVII. Rhein-Main-Open Bad Homburg
DTSTART;TZID=Europe/Berlin:20250618T000000
DTEND;TZID=Europe/Berlin:20250622T000000
DTSTAMP:20260421T132118Z
UID:7007f69e5138436bb1e308a766dc6b69@www.hessischer-schachverband.de
CONTACT:info@rhein-main-open.de\, https://rhein-main-open.de/
CREATED:20250413T012639Z
DESCRIPTION:Termin 18.-22.06.2025\n7 Runden Schweizer System Elo - DWZ-Wer
 tung || Bedenkzeit 90 min/40 Züge - 30 min/Rest - 30 sec/Zug. || \n2 Grup
 pen (> 2000 Elo/DWZ\, <= 2000 Elo/DWZ) || Preisfonds 5.400 EUR: 750/500/40
 0/... EUR || Viele Rating-Gruppen\, Senioren-Jugendpreise: Je 80/60/40 EUR
LAST-MODIFIED:20250530T104003Z
LOCATION:Bürgerhaus Kirdorf\, Stedter Weg 40\, 61350 Bad Homburg vor der 
 Höhe
URL:https://www.hessischer-schachverband.de/event_listing/xxvii-rhein-main
 -open-bad-homburg
END:VEVENT
BEGIN:VTIMEZONE
TZID:Europe/Berlin
X-LIC-LOCATION:Europe/Berlin
BEGIN:DAYLIGHT
DTSTART:20250330T030000
TZNAME:CEST
TZOFFSETFROM:+0100
TZOFFSETTO:+0200
END:DAYLIGHT
END:VTIMEZONE
END:VCALENDAR
