BEGIN:VCALENDAR
VERSION:2.0
PRODID:-//Plone.org//NONSGML plone.app.event//EN
X-WR-TIMEZONE:Europe/Berlin
BEGIN:VEVENT
SUMMARY:XVI. Rhein-Main-Open 2013
DTSTART;TZID=Europe/Berlin:20130529T000000
DTEND;TZID=Europe/Berlin:20130602T000000
DTSTAMP:20260421T114232Z
UID:7bf996b807f34b9ca7ec537e6090ab28@www.hessischer-schachverband.de
CONTACT:http://www.rhein-main-open.de/chronik/2013/rmo_frameset.php
CREATED:20130203T093523Z
LAST-MODIFIED:20250530T104003Z
LOCATION:Bürgerhaus Kirdorf\, Stedter Weg 40\, 61350 Bad Homburg vor der 
 Höhe
URL:https://www.hessischer-schachverband.de/event_listing/xvi-rhein-main-o
 pen-2013-1
END:VEVENT
BEGIN:VTIMEZONE
TZID:Europe/Berlin
X-LIC-LOCATION:Europe/Berlin
BEGIN:DAYLIGHT
DTSTART:20130331T030000
TZNAME:CEST
TZOFFSETFROM:+0100
TZOFFSETTO:+0200
END:DAYLIGHT
END:VTIMEZONE
END:VCALENDAR
