BEGIN:VCALENDAR
VERSION:2.0
PRODID:-//Plone.org//NONSGML plone.app.event//EN
X-WR-TIMEZONE:Europe/Berlin
BEGIN:VEVENT
SUMMARY:Verbandskämpfe\, Runde 5
DTSTART;TZID=Europe/Berlin:20130127T140000
DTEND;TZID=Europe/Berlin:20130127T200000
DTSTAMP:20260426T014752Z
UID:d5c0b6efc69f4d44875799b27702f2aa@www.hessischer-schachverband.de
CREATED:20130122T022859Z
LAST-MODIFIED:20250530T104002Z
URL:https://www.hessischer-schachverband.de/event_listing/verbandskaempfe-
 runde-5
END:VEVENT
BEGIN:VTIMEZONE
TZID:Europe/Berlin
X-LIC-LOCATION:Europe/Berlin
BEGIN:STANDARD
DTSTART:20121028T020000
TZNAME:CET
TZOFFSETFROM:+0200
TZOFFSETTO:+0100
END:STANDARD
END:VTIMEZONE
END:VCALENDAR
