BEGIN:VCALENDAR
VERSION:2.0
PRODID:-//Plone.org//NONSGML plone.app.event//EN
X-WR-TIMEZONE:Europe/Berlin
BEGIN:VEVENT
SUMMARY:Sitzung erweitertes Präsidium
DTSTART;TZID=Europe/Berlin:20260425T140000
DTEND;TZID=Europe/Berlin:20260425T160000
DTSTAMP:20260422T100036Z
UID:3701a08f772944c4974220190e5fc1f0@www.hessischer-schachverband.de
CREATED:20260422T045842Z
LAST-MODIFIED:20260422T045856Z
LOCATION:lsb-h Frankfurt und Hybrid
URL:https://www.hessischer-schachverband.de/event_listing/sitzung-erweiter
 tes-praesidium
END:VEVENT
BEGIN:VTIMEZONE
TZID:Europe/Berlin
X-LIC-LOCATION:Europe/Berlin
BEGIN:DAYLIGHT
DTSTART:20260329T030000
TZNAME:CEST
TZOFFSETFROM:+0100
TZOFFSETTO:+0200
END:DAYLIGHT
END:VTIMEZONE
END:VCALENDAR
