BEGIN:VCALENDAR
VERSION:2.0
PRODID:-//Plone.org//NONSGML plone.app.event//EN
X-WR-TIMEZONE:Europe/Berlin
BEGIN:VEVENT
SUMMARY:Silvester Open 2025
DTSTART;TZID=Europe/Berlin:20251231T090000
DTEND;TZID=Europe/Berlin:20251231T180000
DTSTAMP:20260421T180444Z
UID:487373aba7f74abb84524af49040ff13@www.hessischer-schachverband.de
CONTACT:Sfr. Frankfurt 1921\, https://silvester-open.com/
CREATED:20251202T165056Z
DESCRIPTION:11 Runden 10+5s
LAST-MODIFIED:20251202T165102Z
LOCATION:Saalbau BiKuZ\, Michael-Stumpf-Str. 2\, 65929 Frankfurt
URL:https://www.hessischer-schachverband.de/event_listing/silvester-open-2
 025
END:VEVENT
BEGIN:VTIMEZONE
TZID:Europe/Berlin
X-LIC-LOCATION:Europe/Berlin
BEGIN:STANDARD
DTSTART:20251026T020000
TZNAME:CET
TZOFFSETFROM:+0200
TZOFFSETTO:+0100
END:STANDARD
END:VTIMEZONE
END:VCALENDAR
