BEGIN:VCALENDAR
VERSION:2.0
PRODID:-//Plone.org//NONSGML plone.app.event//EN
X-WR-TIMEZONE:Europe/Berlin
BEGIN:VEVENT
SUMMARY:Schnellschach-Open um den Galerie-Pokal\, Gießen
DTSTART;TZID=Europe/Berlin:20131102T100000
DTEND;TZID=Europe/Berlin:20131102T173000
DTSTAMP:20260424T114748Z
UID:8ce43e096564420181157bacf3a164ec@www.hessischer-schachverband.de
CONTACT:Vadim Popov\, 0176/35731083\, vadim.e.popov@gmail.com\, http://www
 .sk1858-giessen.de/Interne-Turniere/Galerie-Pokale\;focus=CMTOI_de_dtag_ho
 sting_hpcreator_widget_Download_12166246&path=download.action&frame=CMTOI_
 de_dtag_hosting_hpcreator_widget_Download_12166246&view=raw?id=96355
CREATED:20130912T210522Z
DESCRIPTION:9 Runden Schweizer System\nBedenkzeit: 15 min
LAST-MODIFIED:20250530T104002Z
LOCATION:Galerie „Neustädter Tor“ Neustadt 28\, 35390 Gießen
URL:https://www.hessischer-schachverband.de/event_listing/schnellschach-op
 en-um-den-galerie-pokal-giessen
END:VEVENT
BEGIN:VTIMEZONE
TZID:Europe/Berlin
X-LIC-LOCATION:Europe/Berlin
BEGIN:STANDARD
DTSTART:20131027T020000
TZNAME:CET
TZOFFSETFROM:+0200
TZOFFSETTO:+0100
END:STANDARD
END:VTIMEZONE
END:VCALENDAR
