BEGIN:VCALENDAR
VERSION:2.0
PRODID:-//Plone.org//NONSGML plone.app.event//EN
X-WR-TIMEZONE:Europe/Berlin
BEGIN:VEVENT
SUMMARY:Schach auf dem Familiensportfest 2016
DTSTART;TZID=Europe/Berlin:20160709T130000
DTEND;TZID=Europe/Berlin:20160709T190000
DTSTAMP:20260424T034542Z
UID:1d44433fad21438ca2b56f58f5fec6d6@www.hessischer-schachverband.de
CONTACT:http://www.familiensportfest.de/
CREATED:20160416T210533Z
DESCRIPTION:im Stadion am Brentanobad
LAST-MODIFIED:20250530T104002Z
LOCATION:Stadion am Brentanobad\, Rödelheimer Parkweg 39\, Frankfurt am M
 ain
URL:https://www.hessischer-schachverband.de/event_listing/schach-auf-dem-f
 amiliensportfest-2016
END:VEVENT
BEGIN:VTIMEZONE
TZID:Europe/Berlin
X-LIC-LOCATION:Europe/Berlin
BEGIN:DAYLIGHT
DTSTART:20160327T030000
TZNAME:CEST
TZOFFSETFROM:+0100
TZOFFSETTO:+0200
END:DAYLIGHT
END:VTIMEZONE
END:VCALENDAR
