BEGIN:VCALENDAR
VERSION:2.0
PRODID:-//Plone.org//NONSGML plone.app.event//EN
X-WR-TIMEZONE:Europe/Berlin
BEGIN:VEVENT
SUMMARY:Offene Hessische Schnellschacheinzelmeisterschaft 2019
DTSTART;TZID=Europe/Berlin:20190629T103000
DTEND;TZID=Europe/Berlin:20190629T193000
DTSTAMP:20260421T114248Z
UID:c7caa88a8ba44c1597be0f286147f389@www.hessischer-schachverband.de
CONTACT:Kolja Alecsander Lotz\, tlfe@hessischer-schachverband.de\, http://
 hessischer-schachverband.de/spielleitung/schnellschach
CREATED:20190607T092833Z
DESCRIPTION:9 Rd. Ch-System\, 15 Minuten + 10 Sekunden inkrement
LAST-MODIFIED:20250530T104002Z
LOCATION:Saalbau Nidda\, Harheimer Weg 18-22\, 60437 Frankfurt am Main
URL:https://www.hessischer-schachverband.de/event_listing/offene-hessische
 -schnellschacheinzelmeisterschaft-2019
END:VEVENT
BEGIN:VTIMEZONE
TZID:Europe/Berlin
X-LIC-LOCATION:Europe/Berlin
BEGIN:DAYLIGHT
DTSTART:20190331T030000
TZNAME:CEST
TZOFFSETFROM:+0100
TZOFFSETTO:+0200
END:DAYLIGHT
END:VTIMEZONE
END:VCALENDAR
