BEGIN:VCALENDAR
VERSION:2.0
PRODID:-//Plone.org//NONSGML plone.app.event//EN
X-WR-TIMEZONE:Europe/Berlin
BEGIN:VEVENT
SUMMARY:Offene Hessische-Blitz-Einzelmeisterschaft 2026
DTSTART;TZID=Europe/Berlin:20260822T130000
DTEND;TZID=Europe/Berlin:20260822T200000
DTSTAMP:20260421T133326Z
UID:6dc03e34b6a14bf9800d49387e906660@www.hessischer-schachverband.de
CONTACT:Stefan Jäger\, tlfe@hessischer-schachverband.de\, https://www.hes
 sischer-schachverband.de/spielleitung-einzel/blitz-einzel/2026/ausschreibu
 ng-hess-schnellschachmeisterschaft-2026
CREATED:20260418T170628Z
DESCRIPTION:15 Runden 3+2s.\nDas Turnier ist oﬀen für alle Schachspiele
 rinnen und Schachspieler nach Maßgabe diese Ausschreibung und solange nic
 ht anders in der Turnierordnung des HSV geregelt ist.
LAST-MODIFIED:20260418T170656Z
LOCATION:Saalbau Griesheim Schwarzerlenweg 57\, Frankfurt Main
URL:https://www.hessischer-schachverband.de/event_listing/offene-hessische
 -blitz-einzelmeisterschaft-2026
END:VEVENT
BEGIN:VTIMEZONE
TZID:Europe/Berlin
X-LIC-LOCATION:Europe/Berlin
BEGIN:DAYLIGHT
DTSTART:20260329T030000
TZNAME:CEST
TZOFFSETFROM:+0100
TZOFFSETTO:+0200
END:DAYLIGHT
END:VTIMEZONE
END:VCALENDAR
