BEGIN:VCALENDAR
VERSION:2.0
PRODID:-//Plone.org//NONSGML plone.app.event//EN
X-WR-TIMEZONE:Europe/Berlin
BEGIN:VEVENT
SUMMARY:Offene Hessische Blitz-Einzelmeisterschaft 2019
DTSTART;TZID=Europe/Berlin:20190413T103000
DTEND;TZID=Europe/Berlin:20190413T180000
DTSTAMP:20260421T114232Z
UID:51e4c4bbd6d647869231f050cd446124@www.hessischer-schachverband.de
CONTACT:Kolja Alecsander Lotz\, tlfe@hessischer-schachverband.de\, http://
 hessischer-schachverband.de/spielleitung/blitz-einzel
CREATED:20190404T203621Z
DESCRIPTION:21 Rd. Ch-System\, 3+2 Minuten Bedenkzeit\, ELO-Auswertung
LAST-MODIFIED:20250530T104002Z
LOCATION:Saalbau Ronneburg\, Gelnhäuser Str. 2
URL:https://www.hessischer-schachverband.de/event_listing/offene-hessische
 -blitz-einzelmeisterschaft-2019
END:VEVENT
BEGIN:VTIMEZONE
TZID:Europe/Berlin
X-LIC-LOCATION:Europe/Berlin
BEGIN:DAYLIGHT
DTSTART:20190331T030000
TZNAME:CEST
TZOFFSETFROM:+0100
TZOFFSETTO:+0200
END:DAYLIGHT
END:VTIMEZONE
END:VCALENDAR
