BEGIN:VCALENDAR
VERSION:2.0
PRODID:-//Plone.org//NONSGML plone.app.event//EN
X-WR-TIMEZONE:Europe/Berlin
BEGIN:VEVENT
SUMMARY:Offene Frankfurter Stadtmeisterschaft 2013\, In memoriam Walter J
 äger (Runde 4)
DTSTART;TZID=Europe/Berlin:20130527T183000
DTEND;TZID=Europe/Berlin:20130527T230000
DTSTAMP:20260424T114957Z
UID:e530203618c646a08bd0e782554f9b2f@www.hessischer-schachverband.de
CATEGORIES:Meisterschaft
CREATED:20130224T191558Z
LAST-MODIFIED:20250530T104001Z
LOCATION:Frankfurt am Main
URL:https://www.hessischer-schachverband.de/event_listing/offene-frankfurt
 er-stadtmeisterschaft-2013-in-memoriam-walter-jaeger-runde-4
END:VEVENT
BEGIN:VTIMEZONE
TZID:Europe/Berlin
X-LIC-LOCATION:Europe/Berlin
BEGIN:DAYLIGHT
DTSTART:20130331T030000
TZNAME:CEST
TZOFFSETFROM:+0100
TZOFFSETTO:+0200
END:DAYLIGHT
END:VTIMEZONE
END:VCALENDAR
