BEGIN:VCALENDAR
VERSION:2.0
PRODID:-//Plone.org//NONSGML plone.app.event//EN
X-WR-TIMEZONE:Europe/Berlin
BEGIN:VEVENT
SUMMARY:Offene Frankfurter Schach Stadtmeisterschaft 2016 - 4. Runde
DTSTART;TZID=Europe/Berlin:20160523T000000
DTEND;TZID=Europe/Berlin:20160523T000000
DTSTAMP:20260424T114821Z
UID:70d9bf57101241ca84ef77633985ac1c@www.hessischer-schachverband.de
CONTACT:Hans D. Post\, http://bezirk-frankfurt.schach-chroniken.net/archiv
 /20152016/fsm/fsmaus.htm
CREATED:20160211T221334Z
LAST-MODIFIED:20250530T104001Z
LOCATION:Bildungs- und Kulturzentrum Ffm-Höchst
URL:https://www.hessischer-schachverband.de/event_listing/offene-frankfurt
 er-schach-stadtmeisterschaft-2016-4-runde
END:VEVENT
BEGIN:VTIMEZONE
TZID:Europe/Berlin
X-LIC-LOCATION:Europe/Berlin
BEGIN:DAYLIGHT
DTSTART:20160327T030000
TZNAME:CEST
TZOFFSETFROM:+0100
TZOFFSETTO:+0200
END:DAYLIGHT
END:VTIMEZONE
END:VCALENDAR
