BEGIN:VCALENDAR
VERSION:2.0
PRODID:-//Plone.org//NONSGML plone.app.event//EN
X-WR-TIMEZONE:Europe/Berlin
BEGIN:VEVENT
SUMMARY:MVS-Open 2023
DTSTART;TZID=Europe/Berlin:20230930T090000
DTEND;TZID=Europe/Berlin:20231003T200000
DTSTAMP:20260421T114130Z
UID:fde36e50a60e41d8819053132a2735e3@www.hessischer-schachverband.de
CONTACT:tlfe@main-vogelsberg-schachverband.de\, http://schachturniere.com/
 schach/index-091\,166\,7410-schachturnier-anzeigen.html
CREATED:20230826T215855Z
LAST-MODIFIED:20250530T104001Z
LOCATION:Wächtersbach
URL:https://www.hessischer-schachverband.de/event_listing/mvs-open-2023
END:VEVENT
BEGIN:VTIMEZONE
TZID:Europe/Berlin
X-LIC-LOCATION:Europe/Berlin
BEGIN:DAYLIGHT
DTSTART:20230326T030000
TZNAME:CEST
TZOFFSETFROM:+0100
TZOFFSETTO:+0200
END:DAYLIGHT
END:VTIMEZONE
END:VCALENDAR
