BEGIN:VCALENDAR
VERSION:2.0
PRODID:-//Plone.org//NONSGML plone.app.event//EN
X-WR-TIMEZONE:Europe/Berlin
BEGIN:VEVENT
SUMMARY:MVS-Open 2022
DTSTART;TZID=Europe/Berlin:20220930T183000
DTEND;TZID=Europe/Berlin:20221003T200000
DTSTAMP:20260421T114233Z
UID:0e98b9430cc040419f351b2240e92ce0@www.hessischer-schachverband.de
CONTACT:Christian Hochmuth\, tlfe@main-vogelsberg-schachverband.de\, https
 ://mvsj.de/aktuelles/24-mvs/377-ausschreibung-mvs-open-2022
CREATED:20220904T074646Z
LAST-MODIFIED:20250530T104001Z
LOCATION:Heinrich-Heldmann-Halle (Bürgerhaus)\, Main-Kinzig-Str. 31\,  63
 607 Wächtersbach
URL:https://www.hessischer-schachverband.de/event_listing/mvs-open-2022
END:VEVENT
BEGIN:VTIMEZONE
TZID:Europe/Berlin
X-LIC-LOCATION:Europe/Berlin
BEGIN:DAYLIGHT
DTSTART:20220327T030000
TZNAME:CEST
TZOFFSETFROM:+0100
TZOFFSETTO:+0200
END:DAYLIGHT
END:VTIMEZONE
END:VCALENDAR
