BEGIN:VCALENDAR
VERSION:2.0
PRODID:-//Plone.org//NONSGML plone.app.event//EN
X-WR-TIMEZONE:Europe/Berlin
BEGIN:VEVENT
SUMMARY:Marburger Schachtage 2023
DTSTART;TZID=Europe/Berlin:20231026T000000
DTEND;TZID=Europe/Berlin:20231029T000000
DTSTAMP:20260421T145743Z
UID:77481709ca474591bcb3fa11f563574c@www.hessischer-schachverband.de
CONTACT:anmeldung@marburger-schachtage.de\, https://marburger-schachtage.d
 e
CREATED:20230702T200416Z
DESCRIPTION:Internationales Open | 7 Runden Schweizer System | A- und B-Op
 en
LAST-MODIFIED:20250530T104001Z
LOCATION:Bürgerhaus Marbach\, Emil-von-Behring-Straße 51\, 35041 Marburg
URL:https://www.hessischer-schachverband.de/event_listing/marburger-schach
 tage-2023
END:VEVENT
BEGIN:VTIMEZONE
TZID:Europe/Berlin
X-LIC-LOCATION:Europe/Berlin
BEGIN:DAYLIGHT
DTSTART:20230326T030000
TZNAME:CEST
TZOFFSETFROM:+0100
TZOFFSETTO:+0200
END:DAYLIGHT
END:VTIMEZONE
END:VCALENDAR
