BEGIN:VCALENDAR
VERSION:2.0
PRODID:-//Plone.org//NONSGML plone.app.event//EN
X-WR-TIMEZONE:Europe/Berlin
BEGIN:VEVENT
SUMMARY:Jubiläumsopen 50 Jahre SC Eschborn 1974
DTSTART;TZID=Europe/Berlin:20240427T113000
DTEND;TZID=Europe/Berlin:20240427T183000
DTSTAMP:20260421T120151Z
UID:161a1b6fe3034542ac03243804f022f0@www.hessischer-schachverband.de
CONTACT:https://www.schachclub-eschborn.de/
CREATED:20240331T141010Z
LAST-MODIFIED:20250530T104001Z
LOCATION:Stadthalle Eschborn
URL:https://www.hessischer-schachverband.de/event_listing/jubilaeumsopen-5
 0-jahre-sc-eschborn-1974
END:VEVENT
BEGIN:VTIMEZONE
TZID:Europe/Berlin
X-LIC-LOCATION:Europe/Berlin
BEGIN:DAYLIGHT
DTSTART:20240331T030000
TZNAME:CEST
TZOFFSETFROM:+0100
TZOFFSETTO:+0200
END:DAYLIGHT
END:VTIMEZONE
END:VCALENDAR
