BEGIN:VCALENDAR
VERSION:2.0
PRODID:-//Plone.org//NONSGML plone.app.event//EN
X-WR-TIMEZONE:Europe/Berlin
BEGIN:VEVENT
SUMMARY:Internationale Hessische-Schnellschach-Einzelmeisterschaft 2026
DTSTART;TZID=Europe/Berlin:20260823T100000
DTEND;TZID=Europe/Berlin:20260823T200000
DTSTAMP:20260421T133004Z
UID:10f3cffa2b004f9ab781319499c76a20@www.hessischer-schachverband.de
CONTACT:Stefan Jäger\, tlfe@hessischer-schachverband.de\, https://www.hes
 sischer-schachverband.de/spielleitung-einzel/schnellschach/2026/ausschreib
 ung-hess-schnellschachmeisterschaft-2026
CREATED:20260418T170823Z
DESCRIPTION:9 Runden 15+5s. \nDas Turnier ist oﬀen für alle Schachspiel
 erinnen und Schachspieler nach Maßgabe diese Ausschreibung und solange ni
 cht anders in der Turnierordnung des HSV geregelt ist.
LAST-MODIFIED:20260418T170826Z
LOCATION:Saalbau Griesheim\, Schwarzerlenweg 57\, Frankfurt Main
URL:https://www.hessischer-schachverband.de/event_listing/internationale-h
 essische-schnellschach-einzelmeisterschaft-2026
END:VEVENT
BEGIN:VTIMEZONE
TZID:Europe/Berlin
X-LIC-LOCATION:Europe/Berlin
BEGIN:DAYLIGHT
DTSTART:20260329T030000
TZNAME:CEST
TZOFFSETFROM:+0100
TZOFFSETTO:+0200
END:DAYLIGHT
END:VTIMEZONE
END:VCALENDAR
