BEGIN:VCALENDAR
VERSION:2.0
PRODID:-//Plone.org//NONSGML plone.app.event//EN
X-WR-TIMEZONE:Europe/Berlin
BEGIN:VEVENT
SUMMARY:Hessische Blitzmannschaftsmeisterschaft 2023
DTSTART;TZID=Europe/Berlin:20230506T090000
DTEND;TZID=Europe/Berlin:20230506T190000
DTSTAMP:20260421T114131Z
UID:654ea92f5c7645ae9dce6e1e5df9858b@www.hessischer-schachverband.de
CREATED:20230128T114045Z
LAST-MODIFIED:20250530T103959Z
LOCATION:Niederbrechen
URL:https://www.hessischer-schachverband.de/event_listing/hessische
END:VEVENT
BEGIN:VTIMEZONE
TZID:Europe/Berlin
X-LIC-LOCATION:Europe/Berlin
BEGIN:DAYLIGHT
DTSTART:20230326T030000
TZNAME:CEST
TZOFFSETFROM:+0100
TZOFFSETTO:+0200
END:DAYLIGHT
END:VTIMEZONE
END:VCALENDAR
