BEGIN:VCALENDAR
VERSION:2.0
PRODID:-//Plone.org//NONSGML plone.app.event//EN
X-WR-TIMEZONE:Europe/Berlin
BEGIN:VEVENT
SUMMARY:Hessische Einzelmeisterschaften 2013 A und B Turnier
DTSTART;TZID=Europe/Berlin:20130327T140000
DTEND;TZID=Europe/Berlin:20130330T210000
DTSTAMP:20260421T120151Z
UID:215edc54ac2c48c485fbd910e39907b8@www.hessischer-schachverband.de
CONTACT:Jürgen Kehr\, 05606-5337408\, tlfe@hessischer-schachverband.de\, 
 http://www.HEM2013.de
CREATED:20130204T141811Z
LAST-MODIFIED:20250530T103959Z
LOCATION:Korbach
URL:https://www.hessischer-schachverband.de/event_listing/hessische-einzel
 meisterschaften-2013-a-und-b-turnier
END:VEVENT
BEGIN:VTIMEZONE
TZID:Europe/Berlin
X-LIC-LOCATION:Europe/Berlin
BEGIN:STANDARD
DTSTART:20121028T020000
TZNAME:CET
TZOFFSETFROM:+0200
TZOFFSETTO:+0100
END:STANDARD
END:VTIMEZONE
END:VCALENDAR
