BEGIN:VCALENDAR
VERSION:2.0
PRODID:-//Plone.org//NONSGML plone.app.event//EN
X-WR-TIMEZONE:Europe/Berlin
BEGIN:VEVENT
SUMMARY:Hans-Finger-Gedenkturnier 2014
DTSTART;TZID=Europe/Berlin:20140511T140000
DTEND;TZID=Europe/Berlin:20140511T183000
DTSTAMP:20260424T130316Z
UID:876732d6859c465a8534363d5b8f2836@www.hessischer-schachverband.de
CREATED:20140321T185441Z
LAST-MODIFIED:20250530T103959Z
LOCATION:Stadthalle Flörsheim (Clubräume im Keller)
URL:https://www.hessischer-schachverband.de/event_listing/hans-finger-gede
 nkturnier-2014
END:VEVENT
BEGIN:VTIMEZONE
TZID:Europe/Berlin
X-LIC-LOCATION:Europe/Berlin
BEGIN:DAYLIGHT
DTSTART:20140330T030000
TZNAME:CEST
TZOFFSETFROM:+0100
TZOFFSETTO:+0200
END:DAYLIGHT
END:VTIMEZONE
END:VCALENDAR
