BEGIN:VCALENDAR
VERSION:2.0
PRODID:-//Plone.org//NONSGML plone.app.event//EN
X-WR-TIMEZONE:Europe/Berlin
BEGIN:VEVENT
SUMMARY:Gutenberg Open Mainz 2025
DTSTART;TZID=Europe/Berlin:20250529T000000
DTEND;TZID=Europe/Berlin:20250601T000000
DTSTAMP:20260421T114233Z
UID:01fe5f1357f6432da02b8005adf8d378@www.hessischer-schachverband.de
CONTACT:Peter Binner\, peter.binner@freenet.de\, https://vorwaerts-orient.
 de/2025/02/gutenberg-open-mainz-2025/
CREATED:20250413T005750Z
LAST-MODIFIED:20250530T103959Z
LOCATION:Haus der Jugend\, Mitternachtsgasse 8\, 55116 Mainz
URL:https://www.hessischer-schachverband.de/event_listing/gutenberg-open-m
 ainz-2025
END:VEVENT
BEGIN:VTIMEZONE
TZID:Europe/Berlin
X-LIC-LOCATION:Europe/Berlin
BEGIN:DAYLIGHT
DTSTART:20250330T030000
TZNAME:CEST
TZOFFSETFROM:+0100
TZOFFSETTO:+0200
END:DAYLIGHT
END:VTIMEZONE
END:VCALENDAR
