BEGIN:VCALENDAR
VERSION:2.0
PRODID:-//Plone.org//NONSGML plone.app.event//EN
X-WR-TIMEZONE:Europe/Berlin
BEGIN:VEVENT
SUMMARY:Goldener Springer 2026
DTSTART;TZID=Europe/Berlin:20260807T100000
DTEND;TZID=Europe/Berlin:20260809T200000
DTSTAMP:20260421T131624Z
UID:9abc8efcc5d8426c8aa05be53e283baf@www.hessischer-schachverband.de
CONTACT:Stefan Jäger\, tlfe@hessischer-schachverband.de\, https://www.hes
 sischer-schachverband.de/spielleitung-einzel/goldener-springer/2026/golden
 er-springer-2026
CREATED:20260418T170427Z
DESCRIPTION:KO-Turnier mit Schweizer System als Auffangturnier
LAST-MODIFIED:20260418T170432Z
LOCATION:Bürgerhaus Neuenhain\, Hauptstraße 45\, 65812 Bad Soden
URL:https://www.hessischer-schachverband.de/event_listing/goldener-springe
 r-2026
END:VEVENT
BEGIN:VTIMEZONE
TZID:Europe/Berlin
X-LIC-LOCATION:Europe/Berlin
BEGIN:DAYLIGHT
DTSTART:20260329T030000
TZNAME:CEST
TZOFFSETFROM:+0100
TZOFFSETTO:+0200
END:DAYLIGHT
END:VTIMEZONE
END:VCALENDAR
