BEGIN:VCALENDAR
VERSION:2.0
PRODID:-//Plone.org//NONSGML plone.app.event//EN
X-WR-TIMEZONE:Europe/Berlin
BEGIN:VEVENT
SUMMARY:Gießener Schnellschachturnier
DTSTART;TZID=Europe/Berlin:20250112T093000
DTEND;TZID=Europe/Berlin:20250112T170000
DTSTAMP:20260421T114232Z
UID:a23ea5736b9c4bf895547de6e3736eb0@www.hessischer-schachverband.de
CONTACT:Manutschehr Arvin\, 0151-11650564\, m.arvin@t-online.de\, https://
 www.sk-1858-giessen.de/
CREATED:20241202T195852Z
LAST-MODIFIED:20250530T103959Z
LOCATION:Bürgerhaus\, Holzmühler Weg 76\, 35457 Lollar
URL:https://www.hessischer-schachverband.de/event_listing/giessener-schnel
 lschachturnier
END:VEVENT
BEGIN:VTIMEZONE
TZID:Europe/Berlin
X-LIC-LOCATION:Europe/Berlin
BEGIN:STANDARD
DTSTART:20241027T020000
TZNAME:CET
TZOFFSETFROM:+0200
TZOFFSETTO:+0100
END:STANDARD
END:VTIMEZONE
END:VCALENDAR
