BEGIN:VCALENDAR
VERSION:2.0
PRODID:-//Plone.org//NONSGML plone.app.event//EN
X-WR-TIMEZONE:Europe/Berlin
BEGIN:VEVENT
SUMMARY:Gedenkturnier Simon Goff
DTSTART;TZID=Europe/Berlin:20221001T000000
DTEND;TZID=Europe/Berlin:20221003T000000
DTSTAMP:20260424T162551Z
UID:0e692f86d4d146c1831edbe09157f8a2@www.hessischer-schachverband.de
CONTACT:Manutschehr Arvin\, 0151-11650564\, m.arvin@t-online.de\, https://
 sk-1858-giessen.de/Offene-Turniere/Gedenkturnier-Simon-Goff
CREATED:20220724T223529Z
DESCRIPTION:Veranstalter: SK 1858 Gießen e.V. || 1. Preis €300\,00 + Po
 kal || Modus: 5 Runden CH-System || Bedenkzeit: 90 Minuten für die ersten
  40 Züge\, danach 30 Minuten für den Rest der Partie\, Plus 30 Sek. pro 
 Zug von Beginn an. 
LAST-MODIFIED:20250530T103959Z
LOCATION:GSW\, Hannah-Arendt-Straße 6\, 35394 Gießen
URL:https://www.hessischer-schachverband.de/event_listing/gedenkturnier-si
 mon-goff
END:VEVENT
BEGIN:VTIMEZONE
TZID:Europe/Berlin
X-LIC-LOCATION:Europe/Berlin
BEGIN:DAYLIGHT
DTSTART:20220327T030000
TZNAME:CEST
TZOFFSETFROM:+0100
TZOFFSETTO:+0200
END:DAYLIGHT
END:VTIMEZONE
END:VCALENDAR
