BEGIN:VCALENDAR
VERSION:2.0
PRODID:-//Plone.org//NONSGML plone.app.event//EN
X-WR-TIMEZONE:Europe/Berlin
BEGIN:VEVENT
SUMMARY:Frankfurter Stadtmeisterschaft\, 3. Runde
DTSTART;TZID=Europe/Berlin:20150511T183000
DTEND;TZID=Europe/Berlin:20150511T233000
DTSTAMP:20260421T132120Z
UID:48097d5e11014e56aea0c78097bf7b70@www.hessischer-schachverband.de
CONTACT:Hans D. Post\, tlfe@bezirk-frankfurt.schach-chroniken.net\, http:/
 /fsm.schach-chroniken.net
CREATED:20150215T204809Z
LAST-MODIFIED:20250530T103959Z
LOCATION:Bildungs- und Kulturzentrum in Frankfurt-Höchst\, Michael-Stumpf
 -Straße 2\, Frankfurt
URL:https://www.hessischer-schachverband.de/event_listing/frankfurter-stad
 tmeisterschaft-3-runde
END:VEVENT
BEGIN:VTIMEZONE
TZID:Europe/Berlin
X-LIC-LOCATION:Europe/Berlin
BEGIN:DAYLIGHT
DTSTART:20150329T030000
TZNAME:CEST
TZOFFSETFROM:+0100
TZOFFSETTO:+0200
END:DAYLIGHT
END:VTIMEZONE
END:VCALENDAR
