BEGIN:VCALENDAR
VERSION:2.0
PRODID:-//Plone.org//NONSGML plone.app.event//EN
X-WR-TIMEZONE:Europe/Berlin
BEGIN:VEVENT
SUMMARY:Deutsche Schach-Amateurmeisterschaft 7³   2022/2023 in Bad Wildun
 gen
DTSTART;TZID=Europe/Berlin:20230127T083000
DTEND;TZID=Europe/Berlin:20230129T150000
DTSTAMP:20260426T055356Z
UID:107e65b1f02a4a459116e32dd1ec0c8d@www.hessischer-schachverband.de
CONTACT:https://www.dsam-cup.de/bad_wildungen/
CREATED:20230104T210803Z
LAST-MODIFIED:20250530T103958Z
LOCATION:Maritim Bad Wildungen Dr.-Marc-Str. 4 D-34537 Bad Wildungen
URL:https://www.hessischer-schachverband.de/event_listing/deutsche-schach-
 amateurmeisterschaft-73-2022-2023-in-bad-wildungen
END:VEVENT
BEGIN:VTIMEZONE
TZID:Europe/Berlin
X-LIC-LOCATION:Europe/Berlin
BEGIN:STANDARD
DTSTART:20221030T020000
TZNAME:CET
TZOFFSETFROM:+0200
TZOFFSETTO:+0100
END:STANDARD
END:VTIMEZONE
END:VCALENDAR
