BEGIN:VCALENDAR
VERSION:2.0
PRODID:-//Plone.org//NONSGML plone.app.event//EN
X-WR-TIMEZONE:Europe/Berlin
BEGIN:VEVENT
SUMMARY:Damengambit zum 90-jährigen Jubiläum
DTSTART;TZID=Europe/Berlin:20220709T000000
DTEND;TZID=Europe/Berlin:20220709T000000
DTSTAMP:20260424T114750Z
UID:dd4b8bc45ab7473582cd82d23d2e649e@www.hessischer-schachverband.de
CONTACT:vorstand@svgeppstein.de\, https://svgeppstein.de/wp-content/upload
 s/2022/07/220531_Simultan_Irina_V2.pdf
CREATED:20220706T202816Z
DESCRIPTION:Dieses Jahr feiert die SVG Eppstein ihr 90-jähriges Jubiläum
 . Zu diesem Anlass findet am Samstag\, dem 9. Juli ein Simultan von IM Iri
 na Bulmaga in der Wooganlage unterhalb der Eppsteiner Burg statt. 
LAST-MODIFIED:20250530T103958Z
LOCATION:Wooganlage (Park\, neben Haus Rossertstraße 17)\, Eppstein
URL:https://www.hessischer-schachverband.de/event_listing/damengambit-zum-
 90-jaehrigen-jubilaeum
END:VEVENT
BEGIN:VTIMEZONE
TZID:Europe/Berlin
X-LIC-LOCATION:Europe/Berlin
BEGIN:DAYLIGHT
DTSTART:20220327T030000
TZNAME:CEST
TZOFFSETFROM:+0100
TZOFFSETTO:+0200
END:DAYLIGHT
END:VTIMEZONE
END:VCALENDAR
