BEGIN:VCALENDAR
VERSION:2.0
PRODID:-//Plone.org//NONSGML plone.app.event//EN
X-WR-TIMEZONE:Europe/Berlin
BEGIN:VEVENT
SUMMARY:Blitzmannschaftsmeisterschaft 2013
DTSTART;TZID=Europe/Berlin:20130420T133000
DTEND;TZID=Europe/Berlin:20130420T190000
DTSTAMP:20260421T210407Z
UID:e616c764be994cc0add3f9f74d156b2d@www.hessischer-schachverband.de
CATEGORIES:Turnier
CONTACT:Frank Staiger\, 01577/542 26 66\, tlfm@hessischer-schachverband.de
CREATED:20130203T130753Z
DESCRIPTION:Hessische Blitzmannschaftsmeisterschaft 2013
LAST-MODIFIED:20250530T103958Z
LOCATION:Gladenbach
URL:https://www.hessischer-schachverband.de/event_listing/blitzmannschafts
 meisterschaft-2013
END:VEVENT
BEGIN:VTIMEZONE
TZID:Europe/Berlin
X-LIC-LOCATION:Europe/Berlin
BEGIN:DAYLIGHT
DTSTART:20130331T030000
TZNAME:CEST
TZOFFSETFROM:+0100
TZOFFSETTO:+0200
END:DAYLIGHT
END:VTIMEZONE
END:VCALENDAR
