BEGIN:VCALENDAR
VERSION:2.0
PRODID:-//Plone.org//NONSGML plone.app.event//EN
X-WR-TIMEZONE:Europe/Berlin
BEGIN:VEVENT
SUMMARY:Anton-Aßmann-Gedenkturnier
DTSTART;TZID=Europe/Berlin:20240330T000000
DTEND;TZID=Europe/Berlin:20240330T000000
DTSTAMP:20260421T114232Z
UID:cb555337bd284a10bc99a89d06d4f565@www.hessischer-schachverband.de
CONTACT:anmeldung-sfr-sailauf@gmx.de\, https://www.schachfreunde-sailauf.d
 e/turniere/akblitz/SFSailauf_AntonA%C3%9FmannGedenk-Turnier2024.pdf
CREATED:20240323T141821Z
DESCRIPTION:Schachfreunde 1967 Sailauf e.V. || Spielmodus: Gespielt werden
  15 (fünfzehn) Runden. Schweizer System als 3 Minuten + 2 Sekunden. Es ge
 lten die FIDE-Blitzschachregeln. || Anmeldung: 9:30 bis 10:00 Uhr || Spiel
 beginn: 10:30 Uhr
LAST-MODIFIED:20250530T103958Z
LOCATION:Altes Pfarrhaus (2. OG)\, Kirchberg 2\, 63877 Sailauf
URL:https://www.hessischer-schachverband.de/event_listing/anton-assmann-ge
 denkturnier
END:VEVENT
BEGIN:VTIMEZONE
TZID:Europe/Berlin
X-LIC-LOCATION:Europe/Berlin
BEGIN:STANDARD
DTSTART:20231029T020000
TZNAME:CET
TZOFFSETFROM:+0200
TZOFFSETTO:+0100
END:STANDARD
END:VTIMEZONE
END:VCALENDAR
