BEGIN:VCALENDAR
VERSION:2.0
PRODID:-//Plone.org//NONSGML plone.app.event//EN
X-WR-TIMEZONE:Europe/Berlin
BEGIN:VEVENT
SUMMARY:a3DS Chess Open
DTSTART;TZID=Europe/Berlin:20250710T080000
DTEND;TZID=Europe/Berlin:20250713T160000
DTSTAMP:20260424T114043Z
UID:e7a71ce6ea074d408343edf6ce98b009@www.hessischer-schachverband.de
CONTACT:Sven Hageman\, sven.hagemann@rochade-braunschweig.de\, https://nsv
 -online.de/2025/04/nsv-grandprix-a3ds-chess-open-in-braunschweig-ausschrei
 bung/
CREATED:20250607T064648Z
DESCRIPTION:Teil des Niedersächsischen Grand-Prixs.\nInfos zu finden: htt
 ps://nsv-online.de/2025/04/nsv-grandprix-a3ds-chess-open-in-braunschweig-a
 usschreibung/
LAST-MODIFIED:20250607T064747Z
LOCATION:Braunschweig
URL:https://www.hessischer-schachverband.de/event_listing/a3ds-chess-open
END:VEVENT
BEGIN:VTIMEZONE
TZID:Europe/Berlin
X-LIC-LOCATION:Europe/Berlin
BEGIN:DAYLIGHT
DTSTART:20250330T030000
TZNAME:CEST
TZOFFSETFROM:+0100
TZOFFSETTO:+0200
END:DAYLIGHT
END:VTIMEZONE
END:VCALENDAR
