BEGIN:VCALENDAR
VERSION:2.0
PRODID:-//Plone.org//NONSGML plone.app.event//EN
X-WR-TIMEZONE:Europe/Berlin
BEGIN:VEVENT
SUMMARY:8. Runde Mannschaftskämpfe HSV
DTSTART;TZID=Europe/Berlin:20230326T140000
DTEND;TZID=Europe/Berlin:20230326T210000
DTSTAMP:20260421T221742Z
UID:f61482f669634ddeb5e7d2d5ed85fe91@www.hessischer-schachverband.de
CREATED:20221113T113342Z
LAST-MODIFIED:20250530T103958Z
URL:https://www.hessischer-schachverband.de/event_listing/8-runde-mannscha
 ftskaempfe-hsv
END:VEVENT
BEGIN:VTIMEZONE
TZID:Europe/Berlin
X-LIC-LOCATION:Europe/Berlin
BEGIN:DAYLIGHT
DTSTART:20230326T030000
TZNAME:CEST
TZOFFSETFROM:+0100
TZOFFSETTO:+0200
END:DAYLIGHT
END:VTIMEZONE
END:VCALENDAR
