BEGIN:VCALENDAR
VERSION:2.0
PRODID:-//Plone.org//NONSGML plone.app.event//EN
X-WR-TIMEZONE:Europe/Berlin
BEGIN:VEVENT
SUMMARY:8.Flörsheimer Elo-Stadtmeisterschaft 2014 (4.Runde)
DTSTART;TZID=Europe/Berlin:20141017T200000
DTEND;TZID=Europe/Berlin:20141018T010000
DTSTAMP:20260421T114247Z
UID:34a4d72ac01f411082c57a715fc5a77d@www.hessischer-schachverband.de
CREATED:20140817T130413Z
LAST-MODIFIED:20250530T103957Z
URL:https://www.hessischer-schachverband.de/event_listing/8-floersheimer-e
 lo-stadtmeisterschaft-2014-4-runde
END:VEVENT
BEGIN:VTIMEZONE
TZID:Europe/Berlin
X-LIC-LOCATION:Europe/Berlin
BEGIN:DAYLIGHT
DTSTART:20140330T030000
TZNAME:CEST
TZOFFSETFROM:+0100
TZOFFSETTO:+0200
END:DAYLIGHT
END:VTIMEZONE
END:VCALENDAR
