BEGIN:VCALENDAR
VERSION:2.0
PRODID:-//Plone.org//NONSGML plone.app.event//EN
X-WR-TIMEZONE:Europe/Berlin
BEGIN:VEVENT
SUMMARY:7. Runde Saison 2019/20 Hessenliga\, Verbandsliga\, Landesklasse
DTSTART;TZID=Europe/Berlin:20200308T140000
DTEND;TZID=Europe/Berlin:20200308T200000
DTSTAMP:20260424T115143Z
UID:a3f298eb02d54c33b85faa3c12e2b0f7@www.hessischer-schachverband.de
CONTACT:http://hessischer-schachverband.de/ligabetrieb/saison-2019-20/auss
 chreibung-der-hessischen-ligen-saison-2019-20
CREATED:20190407T073331Z
LAST-MODIFIED:20250530T103957Z
URL:https://www.hessischer-schachverband.de/event_listing/7-runde-saison-2
 019-20-hessenliga-verbandsliga-landesklasse
END:VEVENT
BEGIN:VTIMEZONE
TZID:Europe/Berlin
X-LIC-LOCATION:Europe/Berlin
BEGIN:STANDARD
DTSTART:20191027T020000
TZNAME:CET
TZOFFSETFROM:+0200
TZOFFSETTO:+0100
END:STANDARD
END:VTIMEZONE
END:VCALENDAR
