BEGIN:VCALENDAR
VERSION:2.0
PRODID:-//Plone.org//NONSGML plone.app.event//EN
X-WR-TIMEZONE:Europe/Berlin
BEGIN:VEVENT
SUMMARY:7. Limburger WERKStadt Schach Open 2023
DTSTART;TZID=Europe/Berlin:20230729T000000
DTEND;TZID=Europe/Berlin:20230729T000000
DTSTAMP:20260421T145246Z
UID:73952fc3b71d4e8a969b09874f8e0428@www.hessischer-schachverband.de
CONTACT:Matthias Meffert\, 0176 96740197\, werkstadt-open@bezirk9lahn.de\,
  https://www.werkstadt-limburg.de/siebte-werkstadt-schach-open
CREATED:20230410T205052Z
DESCRIPTION:Modus: 9 Runden Schweizer-System\, maximal 100 Teilnehmer. 15 
 Minuten Schnellschach ohne Inkrement.\nUnmöglicher Zug verliert nicht die
  Partie. Es wird mit elektronischen Uhren gespielt. Ansonsten gelten die F
 IDE – Regeln von 2017.
LAST-MODIFIED:20250530T103957Z
LOCATION:WERKStadt Limburg
URL:https://www.hessischer-schachverband.de/event_listing/7-limburger-werk
 stadt-schach-open-2023
END:VEVENT
BEGIN:VTIMEZONE
TZID:Europe/Berlin
X-LIC-LOCATION:Europe/Berlin
BEGIN:DAYLIGHT
DTSTART:20230326T030000
TZNAME:CEST
TZOFFSETFROM:+0100
TZOFFSETTO:+0200
END:DAYLIGHT
END:VTIMEZONE
END:VCALENDAR
