BEGIN:VCALENDAR
VERSION:2.0
PRODID:-//Plone.org//NONSGML plone.app.event//EN
X-WR-TIMEZONE:Europe/Berlin
BEGIN:VEVENT
SUMMARY:7.Flörsheimer Elo-Stadtmeisterschaft 2013 (Runde 4)
DTSTART;TZID=Europe/Berlin:20131018T200500
DTEND;TZID=Europe/Berlin:20131019T010500
DTSTAMP:20260424T114750Z
UID:a409ff3304724c84816340d9366290e7@www.hessischer-schachverband.de
CREATED:20130804T180305Z
LAST-MODIFIED:20250530T103957Z
LOCATION:Stadthalle Flörsheim\, Kapellenstraße\, in den Clubräumen
URL:https://www.hessischer-schachverband.de/event_listing/7-floersheimer-e
 lo-stadtmeisterschaft-2013-runde-4
END:VEVENT
BEGIN:VTIMEZONE
TZID:Europe/Berlin
X-LIC-LOCATION:Europe/Berlin
BEGIN:DAYLIGHT
DTSTART:20130331T030000
TZNAME:CEST
TZOFFSETFROM:+0100
TZOFFSETTO:+0200
END:DAYLIGHT
END:VTIMEZONE
END:VCALENDAR
