BEGIN:VCALENDAR
VERSION:2.0
PRODID:-//Plone.org//NONSGML plone.app.event//EN
X-WR-TIMEZONE:Europe/Berlin
BEGIN:VEVENT
SUMMARY:6. Offene Ranstädter Schnellschach-Stadtmeisterschaft
DTSTART;TZID=Europe/Berlin:20190630T110000
DTEND;TZID=Europe/Berlin:20190630T180000
DTSTAMP:20260421T120151Z
UID:0f212448a77442bd9b8615d42c726406@www.hessischer-schachverband.de
CONTACT:http://www.gewerbeverein-ranstadt.de/schnellschach-2019.html
CREATED:20190517T090523Z
DESCRIPTION:2 x 15 min. Schnellschach\, 9 Runden Schweizer System
LAST-MODIFIED:20250530T103957Z
LOCATION:Bürgerhaus Ober-Mockstadt\, Hasenbeunde 2\, 63691 Ranstadt / Obe
 r-Mockstadt
URL:https://www.hessischer-schachverband.de/event_listing/6-offene-ranstae
 dter-schnellschach-stadtmeisterschaft
END:VEVENT
BEGIN:VTIMEZONE
TZID:Europe/Berlin
X-LIC-LOCATION:Europe/Berlin
BEGIN:DAYLIGHT
DTSTART:20190331T030000
TZNAME:CEST
TZOFFSETFROM:+0100
TZOFFSETTO:+0200
END:DAYLIGHT
END:VTIMEZONE
END:VCALENDAR
