BEGIN:VCALENDAR
VERSION:2.0
PRODID:-//Plone.org//NONSGML plone.app.event//EN
X-WR-TIMEZONE:Europe/Berlin
BEGIN:VEVENT
SUMMARY:5. Offene Langener Schnellschach-Stadtmeisterschaft
DTSTART;TZID=Europe/Berlin:20150614T130000
DTEND;TZID=Europe/Berlin:20150614T180000
DTSTAMP:20260424T114750Z
UID:096da6f93c654c5291fb04f61b5374a6@www.hessischer-schachverband.de
CONTACT:Jörg Berkes\, 0170/3383128 2\, joergberkes@web.de
CREATED:20150510T224712Z
DESCRIPTION:um den Sparkassen-Cup\, offen für alle Schachspieler\, Schnel
 lschach (2 x 20 Minuten)\, 7 Runden Schweizer System
LAST-MODIFIED:20250530T103957Z
LOCATION:im Siedlerheim\, Joseph-von-Eichendorff-Straße 1\, 63225 Langen
URL:https://www.hessischer-schachverband.de/event_listing/5-offene-langene
 r-schnellschach-stadtmeisterschaft
END:VEVENT
BEGIN:VTIMEZONE
TZID:Europe/Berlin
X-LIC-LOCATION:Europe/Berlin
BEGIN:DAYLIGHT
DTSTART:20150329T030000
TZNAME:CEST
TZOFFSETFROM:+0100
TZOFFSETTO:+0200
END:DAYLIGHT
END:VTIMEZONE
END:VCALENDAR
