BEGIN:VCALENDAR
VERSION:2.0
PRODID:-//Plone.org//NONSGML plone.app.event//EN
X-WR-TIMEZONE:Europe/Berlin
BEGIN:VEVENT
SUMMARY:5.Offene Chess960 Schnellschach- Einzelmeisterschaft im Bezirk 5 F
 rankfurt
DTSTART;TZID=Europe/Berlin:20140125T134500
DTEND;TZID=Europe/Berlin:20140125T190000
DTSTAMP:20260423T213619Z
UID:aec0d81f5ec545a9b09f42fc33bf107f@www.hessischer-schachverband.de
CONTACT:Hans D. Post\, 06171-59611\, HansDPost@aol.com\, http://bezirk-fra
 nkfurt.schach-chroniken.net/archiv/20132014/960/55960_ausschreibung.htm
CREATED:20130912T212506Z
LAST-MODIFIED:20250530T103957Z
LOCATION:Kleiner Saal im Saalbau Nordweststadt/TitusForum Walter-Möller-P
 latz 2\, 60439 Frankfurt
URL:https://www.hessischer-schachverband.de/event_listing/5-offene-chess96
 0-schnellschach-einzelmeisterschaft-im-bezirk-5-frankfurt
END:VEVENT
BEGIN:VTIMEZONE
TZID:Europe/Berlin
X-LIC-LOCATION:Europe/Berlin
BEGIN:STANDARD
DTSTART:20131027T020000
TZNAME:CET
TZOFFSETFROM:+0200
TZOFFSETTO:+0100
END:STANDARD
END:VTIMEZONE
END:VCALENDAR
