BEGIN:VCALENDAR
VERSION:2.0
PRODID:-//Plone.org//NONSGML plone.app.event//EN
X-WR-TIMEZONE:Europe/Berlin
BEGIN:VEVENT
SUMMARY:43. Erhard-Stephan-Gedächtnisturnier
DTSTART;TZID=Europe/Berlin:20230716T000000
DTEND;TZID=Europe/Berlin:20230716T000000
DTSTAMP:20260421T144914Z
UID:13808f91aec7457dba7ccd006af3c6bf@www.hessischer-schachverband.de
CONTACT:Rainer Molfenter\, Alexander Pollmann und Georg Prassas\, 06205/34
 120\, https://www.ssc-altlussheim.de/
CREATED:20230702T195004Z
DESCRIPTION:Modus: 9 Runden Schweizer System mit 15 Minuten Bedenkzeit
LAST-MODIFIED:20250530T103957Z
LOCATION:Bürgerhaus Altlussheim\, Schulstr. 1\, 68804 Altlußheim
URL:https://www.hessischer-schachverband.de/event_listing/43-erhard-stepha
 n-gedaechtnisturnier
END:VEVENT
BEGIN:VTIMEZONE
TZID:Europe/Berlin
X-LIC-LOCATION:Europe/Berlin
BEGIN:DAYLIGHT
DTSTART:20230326T030000
TZNAME:CEST
TZOFFSETFROM:+0100
TZOFFSETTO:+0200
END:DAYLIGHT
END:VTIMEZONE
END:VCALENDAR
