BEGIN:VCALENDAR
VERSION:2.0
PRODID:-//Plone.org//NONSGML plone.app.event//EN
X-WR-TIMEZONE:Europe/Berlin
BEGIN:VEVENT
SUMMARY:33. Heinerfest-Schachpokal
DTSTART;TZID=Europe/Berlin:20260704T133000
DTEND;TZID=Europe/Berlin:20260705T170000
DTSTAMP:20260421T132818Z
UID:d963e0ccbabb430c9130141eb5dd4483@www.hessischer-schachverband.de
CONTACT:Holger Bergmann\, heinerfest-schachpokal@gmx.de\, https://schachfo
 rum-darmstadt.de/heinerfest-schachpokal/
CREATED:20251202T184555Z
DESCRIPTION:9 Runden 30+0
LAST-MODIFIED:20251202T184630Z
LOCATION:Altes Schalthaus Waldkolonie\, Großer Saal\, Rodensteinweg 2\, 6
 4 293 Darmstadt
URL:https://www.hessischer-schachverband.de/event_listing/33-heinerfest-sc
 hachpokal
END:VEVENT
BEGIN:VTIMEZONE
TZID:Europe/Berlin
X-LIC-LOCATION:Europe/Berlin
BEGIN:DAYLIGHT
DTSTART:20260329T030000
TZNAME:CEST
TZOFFSETFROM:+0100
TZOFFSETTO:+0200
END:DAYLIGHT
END:VTIMEZONE
END:VCALENDAR
