BEGIN:VCALENDAR
VERSION:2.0
PRODID:-//Plone.org//NONSGML plone.app.event//EN
X-WR-TIMEZONE:Europe/Berlin
BEGIN:VEVENT
SUMMARY:3. Gernsheimer Schnellschach-Cup
DTSTART;TZID=Europe/Berlin:20251122T093000
DTEND;TZID=Europe/Berlin:20251122T180000
DTSTAMP:20260421T164034Z
UID:0343fb3ad62b4a9da79fa991671ca442@www.hessischer-schachverband.de
CONTACT:tl@sk1980gernsheim.de\, https://www.sk1980gernsheim.de/anmeldung-s
 chnellschach/
CREATED:20251012T204217Z
LAST-MODIFIED:20251012T204219Z
LOCATION:Riedstraße 24\, 64579 Gernsheim
URL:https://www.hessischer-schachverband.de/event_listing/3-gernsheimer-sc
 hnellschach-cup
END:VEVENT
BEGIN:VTIMEZONE
TZID:Europe/Berlin
X-LIC-LOCATION:Europe/Berlin
BEGIN:STANDARD
DTSTART:20251026T020000
TZNAME:CET
TZOFFSETFROM:+0200
TZOFFSETTO:+0100
END:STANDARD
END:VTIMEZONE
END:VCALENDAR
