BEGIN:VCALENDAR
VERSION:2.0
PRODID:-//Plone.org//NONSGML plone.app.event//EN
X-WR-TIMEZONE:Europe/Berlin
BEGIN:VEVENT
SUMMARY:29. Deutsche Senioren-Blitzeinzelmeisterschaft (50+ & 65+)
DTSTART;TZID=Europe/Berlin:20230723T150000
DTEND;TZID=Europe/Berlin:20230723T200000
DTSTAMP:20260421T123628Z
UID:3352f5bdf7b54be895fdaebcd332ecfc@www.hessischer-schachverband.de
CONTACT:https://www.schachbund.de/senioren-news/jetzt-anmelden-deutsche-se
 niorenmeisterschaften-in-bad-wildungen-im-juli.html
CREATED:20230527T095041Z
DESCRIPTION:29. Deutsche Senioren-Blitzeinzelmeisterschaft (50+ & 65+)
LAST-MODIFIED:20250530T103956Z
LOCATION:34537 Bad Wildungen
URL:https://www.hessischer-schachverband.de/event_listing/29-deutsche-seni
 oren-blitzeinzelmeisterschaft-50-65
END:VEVENT
BEGIN:VTIMEZONE
TZID:Europe/Berlin
X-LIC-LOCATION:Europe/Berlin
BEGIN:DAYLIGHT
DTSTART:20230326T030000
TZNAME:CEST
TZOFFSETFROM:+0100
TZOFFSETTO:+0200
END:DAYLIGHT
END:VTIMEZONE
END:VCALENDAR
