BEGIN:VCALENDAR
VERSION:2.0
PRODID:-//Plone.org//NONSGML plone.app.event//EN
X-WR-TIMEZONE:Europe/Berlin
BEGIN:VEVENT
SUMMARY:26. Offene Bürstädter Stadtmeisterschaft 2025
DTSTART;TZID=Europe/Berlin:20250321T000000
DTEND;TZID=Europe/Berlin:20250321T000000
DTSTAMP:20260423T192625Z
UID:cdc747bef8a04a709da2211b29894e11@www.hessischer-schachverband.de
CONTACT:https://www.sf-buerstadt.de/stadtmeisterschaft-2025/
CREATED:20250413T010258Z
LAST-MODIFIED:20250530T103956Z
LOCATION:Jugendkulturhaus Schillers (http://www.schillers.info) Magnusstra
 sse 37 (Eingang Augustinerstraße)\, 68642 Bürstadt
URL:https://www.hessischer-schachverband.de/event_listing/26-offene-buerst
 aedter-stadtmeisterschaft-2025
END:VEVENT
BEGIN:VTIMEZONE
TZID:Europe/Berlin
X-LIC-LOCATION:Europe/Berlin
BEGIN:STANDARD
DTSTART:20241027T020000
TZNAME:CET
TZOFFSETFROM:+0200
TZOFFSETTO:+0100
END:STANDARD
END:VTIMEZONE
END:VCALENDAR
