BEGIN:VCALENDAR
VERSION:2.0
PRODID:-//Plone.org//NONSGML plone.app.event//EN
X-WR-TIMEZONE:Europe/Berlin
BEGIN:VEVENT
SUMMARY:21.Fürther Schnellschachturnier 2023
DTSTART;TZID=Europe/Berlin:20231202T133000
DTEND;TZID=Europe/Berlin:20231202T200000
DTSTAMP:20260421T120227Z
UID:8ec021fd3dae4f2daaab6fcf030cbe71@www.hessischer-schachverband.de
CONTACT:http://www.sk-1945-fuerth.de/Dokumente/FuertherSchnellschach2023.h
 tml
CREATED:20231119T125147Z
LAST-MODIFIED:20250530T103956Z
LOCATION:64658 Fürth/Odw
URL:https://www.hessischer-schachverband.de/event_listing/21-fuerther-schn
 ellschachturnier-2023
END:VEVENT
BEGIN:VTIMEZONE
TZID:Europe/Berlin
X-LIC-LOCATION:Europe/Berlin
BEGIN:STANDARD
DTSTART:20231029T020000
TZNAME:CET
TZOFFSETFROM:+0200
TZOFFSETTO:+0100
END:STANDARD
END:VTIMEZONE
END:VCALENDAR
