BEGIN:VCALENDAR
VERSION:2.0
PRODID:-//Plone.org//NONSGML plone.app.event//EN
X-WR-TIMEZONE:Europe/Berlin
BEGIN:VEVENT
SUMMARY:2. SELLHOF – CUP 11.03.2017 MARBURG
DTSTART;TZID=Europe/Berlin:20170311T103000
DTEND;TZID=Europe/Berlin:20170311T183000
DTSTAMP:20260424T114750Z
UID:1df1919a26bb49628a473dc1db9b9d09@www.hessischer-schachverband.de
CONTACT:Dr. Ulrich Zimmermann
CREATED:20161030T114121Z
DESCRIPTION:Herzliche Einladung an alle Hessischen Schach-Seniorinnen und 
 - Senioren zum 2. SELLHOF - CUP in Marburg
LAST-MODIFIED:20250530T103956Z
LOCATION:Restaurant Sellhof\, 35041 Marburg\, Oberer Rotenberg 47
URL:https://www.hessischer-schachverband.de/event_listing/2-sellhof-cup-11
 -03-2017-marburg
END:VEVENT
BEGIN:VTIMEZONE
TZID:Europe/Berlin
X-LIC-LOCATION:Europe/Berlin
BEGIN:STANDARD
DTSTART:20161030T020000
TZNAME:CET
TZOFFSETFROM:+0200
TZOFFSETTO:+0100
END:STANDARD
END:VTIMEZONE
END:VCALENDAR
