BEGIN:VCALENDAR
VERSION:2.0
PRODID:-//Plone.org//NONSGML plone.app.event//EN
X-WR-TIMEZONE:Europe/Berlin
BEGIN:VEVENT
SUMMARY:2.Offene Ranstädter Stadtmeisterschaft\, 9Rd\, 2x15min\, 10.30 Uh
 r
DTSTART;TZID=Europe/Berlin:20150719T103000
DTEND;TZID=Europe/Berlin:20150719T193000
DTSTAMP:20260423T205413Z
UID:2d1338a3bb3748259970bf3a70bf79a5@www.hessischer-schachverband.de
CONTACT:Hans D. Post\, tlfe@bezirk-frankfurt.schach-chroniken.net\, http:/
 /hessische.schach-chroniken.net/hsv/20142015/termine/07.htm
CREATED:20150215T211302Z
LAST-MODIFIED:20250530T103956Z
LOCATION:Ranstadt
URL:https://www.hessischer-schachverband.de/event_listing/2-offene-ranstae
 dter-stadtmeisterschaft-9rd-2x15min-10-30-uhr
END:VEVENT
BEGIN:VTIMEZONE
TZID:Europe/Berlin
X-LIC-LOCATION:Europe/Berlin
BEGIN:DAYLIGHT
DTSTART:20150329T030000
TZNAME:CEST
TZOFFSETFROM:+0100
TZOFFSETTO:+0200
END:DAYLIGHT
END:VTIMEZONE
END:VCALENDAR
