BEGIN:VCALENDAR
VERSION:2.0
PRODID:-//Plone.org//NONSGML plone.app.event//EN
X-WR-TIMEZONE:Europe/Berlin
BEGIN:VEVENT
SUMMARY:18. Pfingst-Jugendopen 2023
DTSTART;TZID=Europe/Berlin:20230527T000000
DTEND;TZID=Europe/Berlin:20230529T000000
DTSTAMP:20260421T145743Z
UID:2f7a1206d3b64bea822940a830556839@www.hessischer-schachverband.de
CONTACT:webmaster@sk1980gernsheim.de\, https://www.sk1980gernsheim.de/2023
 /01/25/ausschreibung-18-pfingst-jugendopen-2023/
CREATED:20230319T221059Z
LAST-MODIFIED:20250530T103955Z
LOCATION:Bürgerhaus Allmendfeld\, Raiffeisenstraße 1\, 64579 Gernsheim-A
 llmendfeld
URL:https://www.hessischer-schachverband.de/event_listing/18-pfingst-jugen
 dopen-2023
END:VEVENT
BEGIN:VTIMEZONE
TZID:Europe/Berlin
X-LIC-LOCATION:Europe/Berlin
BEGIN:DAYLIGHT
DTSTART:20230326T030000
TZNAME:CEST
TZOFFSETFROM:+0100
TZOFFSETTO:+0200
END:DAYLIGHT
END:VTIMEZONE
END:VCALENDAR
