BEGIN:VCALENDAR
VERSION:2.0
PRODID:-//Plone.org//NONSGML plone.app.event//EN
X-WR-TIMEZONE:Europe/Berlin
BEGIN:VEVENT
SUMMARY:1. Runde HSV-4er Pokal 2023
DTSTART;TZID=Europe/Berlin:20230618T140000
DTEND;TZID=Europe/Berlin:20230618T200000
DTSTAMP:20260421T144911Z
UID:f8d8c7553aa146b3a11bbb14ef68b72c@www.hessischer-schachverband.de
CREATED:20230603T202634Z
LAST-MODIFIED:20250530T103954Z
URL:https://www.hessischer-schachverband.de/event_listing/1-runde-hsv-4er-
 pokal-2023
END:VEVENT
BEGIN:VTIMEZONE
TZID:Europe/Berlin
X-LIC-LOCATION:Europe/Berlin
BEGIN:DAYLIGHT
DTSTART:20230326T030000
TZNAME:CEST
TZOFFSETFROM:+0100
TZOFFSETTO:+0200
END:DAYLIGHT
END:VTIMEZONE
END:VCALENDAR
