BEGIN:VCALENDAR
VERSION:2.0
PRODID:-//Plone.org//NONSGML plone.app.event//EN
X-WR-TIMEZONE:Europe/Berlin
BEGIN:VEVENT
SUMMARY:1. Heuchelheimer Weihnachtsblitz
DTSTART;TZID=Europe/Berlin:20231202T150000
DTEND;TZID=Europe/Berlin:20231202T190000
DTSTAMP:20260421T145215Z
UID:7caf51bb68bf473fa8fc5ad6dce7dff6@www.hessischer-schachverband.de
CONTACT:Markus Bernath\, Tel. 0163/269 32 96\, markus.bernath@outlook.com
CREATED:20231119T125705Z
LAST-MODIFIED:20250530T103954Z
LOCATION:Mehrzweckgebäude Kinzenbach\, Blumenring 9A\, 35452 Heuchelheim 
 – Kinzenbach
URL:https://www.hessischer-schachverband.de/event_listing/1-heuchelheimer-
 weihnachtsblitz
END:VEVENT
BEGIN:VTIMEZONE
TZID:Europe/Berlin
X-LIC-LOCATION:Europe/Berlin
BEGIN:STANDARD
DTSTART:20231029T020000
TZNAME:CET
TZOFFSETFROM:+0200
TZOFFSETTO:+0100
END:STANDARD
END:VTIMEZONE
END:VCALENDAR
